BEGIN:VCALENDAR
VERSION:2.0
PRODID:-//Spoonful - ECPv5.14.1//NONSGML v1.0//EN
CALSCALE:GREGORIAN
METHOD:PUBLISH
X-WR-CALNAME:Spoonful
X-ORIGINAL-URL:https://spoonful.sg
X-WR-CALDESC:Events for Spoonful
BEGIN:VTIMEZONE
TZID:Asia/Singapore
BEGIN:STANDARD
TZOFFSETFROM:+0800
TZOFFSETTO:+0800
TZNAME:+08
DTSTART:20200101T000000
END:STANDARD
END:VTIMEZONE
BEGIN:VEVENT
DTSTART;TZID=Asia/Singapore:20200508T140000
DTEND;TZID=Asia/Singapore:20200508T144000
DTSTAMP:20260422T114413
CREATED:20200428T062316Z
LAST-MODIFIED:20200430T105429Z
UID:11960-1588946400-1588948800@spoonful.sg
SUMMARY:Online Sweet Class (Sweet Potato)
DESCRIPTION:This class will be conducted in Japanese only. \nFor English class\, please inquire to info@alchemist.sg
URL:https://spoonful.sg/event/online-sweet-class-sweet-potato/
LOCATION:Online
CATEGORIES:Featured Spoonful Workshop Events,Spoonful Workshops
ATTACH;FMTTYPE=image/jpeg:https://spoonful.sg/wp-content/uploads/2020/04/AC-sweet-potato.jpg
END:VEVENT
END:VCALENDAR