BEGIN:VCALENDAR
VERSION:2.0
PRODID:-//Spoonful - ECPv5.14.1//NONSGML v1.0//EN
CALSCALE:GREGORIAN
METHOD:PUBLISH
X-WR-CALNAME:Spoonful
X-ORIGINAL-URL:https://spoonful.sg
X-WR-CALDESC:Events for Spoonful
BEGIN:VTIMEZONE
TZID:Asia/Singapore
BEGIN:STANDARD
TZOFFSETFROM:+0800
TZOFFSETTO:+0800
TZNAME:+08
DTSTART:20200101T000000
END:STANDARD
END:VTIMEZONE
BEGIN:VEVENT
DTSTART;TZID=Asia/Singapore:20200522T140000
DTEND;TZID=Asia/Singapore:20200522T144000
DTSTAMP:20260422T114541
CREATED:20200428T071026Z
LAST-MODIFIED:20200513T041645Z
UID:11978-1590156000-1590158400@spoonful.sg
SUMMARY:(日本語) オンラインお菓子クラス　チュロス
DESCRIPTION:This class will be conducted in only Japanese.\nPlease inquire English class at info@alchemist.sg \n親子でお菓子教室！ \nシンガポールでは6月1日までサーキットブレーカー（CB)が延長されました。　まだお家で過ごす時間が長いので、簡単に親子で楽しめる・また手に入りやすい食材を使用した内容でクラスをご用意しました。 \n大変な日々ですが、美味しいお菓子でおやつ、日々の時間を少しでも楽しく！ \n各クラスはお子様の集中力がもつ40分に設定にさせて頂いております。大人のだけの参加も勿論大歓迎です！ \nまた海外からのご参加も歓迎です！（クラスの表示時間はシンガポール時間です。） \n  \n3日目　5月22日（金）14時~　大人気！チュロス \n  \n【参加諸条件】 \n参加費：当ページからクレジットカードにてお支払い下さい。　単発のお申込みは各クラスのサイトからお申込みをお願いします。 \n参加人数：親子で参加（一家族から何名でも！） \n参加条件：オンラインで受講できる環境が必要です。　ZOOMの使用を予定。 \n調理：事前に必要な材料・道具をご案内いたします。（レシピは参加当日にお送りします。） \nご一緒に調理出来なくても、ご視聴頂き、あとから再現でも問題ございません。 \n参加申し込みが上手く進められない方：お問合せ下さい。　info@alchemist.sg \n  \n【講師　河崎　千代美】 \n \n美味しくてほっとする。そして毎日食べても飽きずにまた食べたくなるぬくもりがある。ごく普通の和食の献立、それらを目の前にすると私たちはどこかほっとした気分になります。だしの「うまみ」を上手に使うことによって脂肪分の少ない健康的な食生活が実現できます。和食はむずかしいと思われがちですが、じつは非常にシンプルで簡単です。上質な昆布とかつお節から作る“だし”をふんだんに使って一汁三菜を基本としたレッスンを開催しています。　また家庭で入る素材で再現可能なお菓子作りも開催させ頂いております。 \n毎日食べたい、毎日食べても飽きない“普段着の和食”、”おうちのご馳走”にこだわり、手軽で美味しい和食ごはん・お菓子を作っていただけるよう基本やコツをわかりやすくお伝えします。 \n  \n活動　2017年度　寿司大使／2017年～　昆布大使／2017年～　お味噌汁復活委員会　委員 \n  \n指導歴     2011年フォーシーズンホテルシェフ（エジプトアレキサンドリア）シェフにお寿司にあうおかず、家庭料理などを指導する。 \n2013年日本にて飾り巻き寿司の普及指導にあたる \n2014年～和食（おばんざい）家庭料理などエジプトで食の苦労をした体験から、海外でも美味しく  日本の家庭料理を作るための指導・研究をシンガポールで始める。 \n2017年～和食や日本の家庭料理が作れるメイドの育成（指導）に関わる。延べ1000人超のメイドに指導している。 \n2017年～シンガポール日本人会で、飾り巻き寿司と日本の家庭料理講座、四季のおばんざい講座、親子で飾り巻き寿司講座を担当し指導にあたる。 \n2018年～メイドの料理だけでなく、掃除や日々の作業についても総合的な個人指導を始める。 \n2019年～マレーシアでメイドレッスン、和食おばんざい料理教室を開催するSpoonfulの提携講師として、SHISEIDOはじめ各種大手企業のイベントでも活躍。 \n  \n【諸条件抜粋：全体（TERMS & CONDITIONS APPLY）も含め必ずご一読・ご理解の上、弊社イベントにお申込み下さい。】 \nクラス申込後のキャンセルは前日までのキャンセルはお受けいたします。当日のキャンセルは100％キャンセル料金がかかります。 \n個々の食のアレルギーへの対応は弊社では受けておりません。　個人の責任においてイベントにご参加下さい。
URL:https://spoonful.sg/event/churros/
CATEGORIES:Featured Spoonful Workshop Events,Spoonful Workshops
ATTACH;FMTTYPE=image/jpeg:https://spoonful.sg/wp-content/uploads/2020/04/churos-mini.jpg
END:VEVENT
END:VCALENDAR