BEGIN:VCALENDAR
VERSION:2.0
PRODID:-//Spoonful - ECPv5.14.1//NONSGML v1.0//EN
CALSCALE:GREGORIAN
METHOD:PUBLISH
X-WR-CALNAME:Spoonful
X-ORIGINAL-URL:https://spoonful.sg
X-WR-CALDESC:Events for Spoonful
BEGIN:VTIMEZONE
TZID:Asia/Singapore
BEGIN:STANDARD
TZOFFSETFROM:+0800
TZOFFSETTO:+0800
TZNAME:+08
DTSTART:20200101T000000
END:STANDARD
END:VTIMEZONE
BEGIN:VEVENT
DTSTART;TZID=Asia/Singapore:20200529T140000
DTEND;TZID=Asia/Singapore:20200529T144000
DTSTAMP:20260422T114545
CREATED:20200428T072025Z
LAST-MODIFIED:20200430T111138Z
UID:11985-1590760800-1590763200@spoonful.sg
SUMMARY:Online Carrot Cake Class
DESCRIPTION:This class will be conducted in only Japanese.\nPlease inquire English class at info@alchemist.sg
URL:https://spoonful.sg/event/online-carrot-cake-class/
LOCATION:Online
CATEGORIES:Featured Spoonful Workshop Events,Spoonful Workshops
ATTACH;FMTTYPE=image/jpeg:https://spoonful.sg/wp-content/uploads/2020/04/ac_carrot-cake.jpg
END:VEVENT
END:VCALENDAR