BEGIN:VCALENDAR
VERSION:2.0
PRODID:-//Spoonful - ECPv5.14.1//NONSGML v1.0//EN
CALSCALE:GREGORIAN
METHOD:PUBLISH
X-WR-CALNAME:Spoonful
X-ORIGINAL-URL:https://spoonful.sg
X-WR-CALDESC:Events for Spoonful
BEGIN:VTIMEZONE
TZID:Asia/Singapore
BEGIN:STANDARD
TZOFFSETFROM:+0800
TZOFFSETTO:+0800
TZNAME:+08
DTSTART:20200101T000000
END:STANDARD
END:VTIMEZONE
BEGIN:VEVENT
DTSTART;TZID=Asia/Singapore:20200621T100000
DTEND;TZID=Asia/Singapore:20200621T113000
DTSTAMP:20260422T063932
CREATED:20200606T035502Z
LAST-MODIFIED:20200610T054001Z
UID:12444-1592733600-1592739000@spoonful.sg
SUMMARY:Farther' Day Sushi Class
DESCRIPTION:This class will be conducted in Japanese. \nFor the English class\, please contact us at info@alchemist.sg .
URL:https://spoonful.sg/event/farther-day-sushi-class/
CATEGORIES:Featured Spoonful Workshop Events,Spoonful Workshops
ATTACH;FMTTYPE=image/jpeg:https://spoonful.sg/wp-content/uploads/2020/06/stamina-maki.jpeg
END:VEVENT
END:VCALENDAR