BEGIN:VCALENDAR
VERSION:2.0
PRODID:-//Spoonful - ECPv5.14.1//NONSGML v1.0//EN
CALSCALE:GREGORIAN
METHOD:PUBLISH
X-WR-CALNAME:Spoonful
X-ORIGINAL-URL:https://spoonful.sg
X-WR-CALDESC:Events for Spoonful
BEGIN:VTIMEZONE
TZID:Asia/Singapore
BEGIN:STANDARD
TZOFFSETFROM:+0800
TZOFFSETTO:+0800
TZNAME:+08
DTSTART:20200101T000000
END:STANDARD
END:VTIMEZONE
BEGIN:VEVENT
DTSTART;TZID=Asia/Singapore:20200623T160000
DTEND;TZID=Asia/Singapore:20200623T170000
DTSTAMP:20260422T063827
CREATED:20200606T044127Z
LAST-MODIFIED:20200617T031336Z
UID:12453-1592928000-1592931600@spoonful.sg
SUMMARY:Online Class Tsukurioki Class
DESCRIPTION:This class will be conducted in Japanese. \nFor the English class\, please contact us at info@alchemist.sg .
URL:https://spoonful.sg/event/tsukurioki/
CATEGORIES:Featured Spoonful Workshop Events,Spoonful Workshops
ATTACH;FMTTYPE=image/jpeg:https://spoonful.sg/wp-content/uploads/2020/06/hashudo-beef.jpeg
END:VEVENT
END:VCALENDAR