BEGIN:VCALENDAR
VERSION:2.0
PRODID:-//Spoonful - ECPv5.14.1//NONSGML v1.0//EN
CALSCALE:GREGORIAN
METHOD:PUBLISH
X-WR-CALNAME:Spoonful
X-ORIGINAL-URL:https://spoonful.sg
X-WR-CALDESC:Events for Spoonful
BEGIN:VTIMEZONE
TZID:Asia/Singapore
BEGIN:STANDARD
TZOFFSETFROM:+0800
TZOFFSETTO:+0800
TZNAME:+08
DTSTART:20200101T000000
END:STANDARD
END:VTIMEZONE
BEGIN:VEVENT
DTSTART;TZID=Asia/Singapore:20200626T150000
DTEND;TZID=Asia/Singapore:20200626T160000
DTSTAMP:20260422T063933
CREATED:20200605T091411Z
LAST-MODIFIED:20200609T002833Z
UID:12420-1593183600-1593187200@spoonful.sg
SUMMARY:Online Invisible Cake Class
DESCRIPTION:This class will be conducted in only Japanese.\nPlease inquire English class at info@alchemist.sg
URL:https://spoonful.sg/event/online-sweet-apple-cake-class/
LOCATION:Online
CATEGORIES:Featured Spoonful Workshop Events,Spoonful Workshops
ATTACH;FMTTYPE=image/jpeg:https://spoonful.sg/wp-content/uploads/2020/06/apple-cake.jpeg
END:VEVENT
END:VCALENDAR