BEGIN:VCALENDAR
VERSION:2.0
PRODID:-//Spoonful - ECPv5.14.1//NONSGML v1.0//EN
CALSCALE:GREGORIAN
METHOD:PUBLISH
X-WR-CALNAME:Spoonful
X-ORIGINAL-URL:https://spoonful.sg
X-WR-CALDESC:Events for Spoonful
BEGIN:VTIMEZONE
TZID:Asia/Singapore
BEGIN:STANDARD
TZOFFSETFROM:+0800
TZOFFSETTO:+0800
TZNAME:+08
DTSTART:20200101T000000
END:STANDARD
END:VTIMEZONE
BEGIN:VEVENT
DTSTART;TZID=Asia/Singapore:20200705T150000
DTEND;TZID=Asia/Singapore:20200705T170000
DTSTAMP:20260422T021427
CREATED:20200608T072729Z
LAST-MODIFIED:20200623T063539Z
UID:12497-1593961200-1593968400@spoonful.sg
SUMMARY:Tanabata Sushi Class
DESCRIPTION:This class will be conducted in Japanese. \nFor the English class\, please contact us at info@alchemist.sg .
URL:https://spoonful.sg/event/tanabata-sushi-class/
LOCATION:Online
CATEGORIES:Featured Spoonful Workshop Events,Spoonful Workshops
ATTACH;FMTTYPE=image/jpeg:https://spoonful.sg/wp-content/uploads/2020/06/7fe4c17f-d450-4f7b-80df-34b825729d8c.jpg
END:VEVENT
END:VCALENDAR