BEGIN:VCALENDAR
VERSION:2.0
PRODID:-//Spoonful - ECPv5.14.1//NONSGML v1.0//EN
CALSCALE:GREGORIAN
METHOD:PUBLISH
X-WR-CALNAME:Spoonful
X-ORIGINAL-URL:https://spoonful.sg
X-WR-CALDESC:Events for Spoonful
BEGIN:VTIMEZONE
TZID:Asia/Singapore
BEGIN:STANDARD
TZOFFSETFROM:+0800
TZOFFSETTO:+0800
TZNAME:+08
DTSTART:20200101T000000
END:STANDARD
END:VTIMEZONE
BEGIN:VEVENT
DTSTART;TZID=Asia/Singapore:20200801T100000
DTEND;TZID=Asia/Singapore:20200801T113000
DTSTAMP:20260421T205205
CREATED:20200713T090420Z
LAST-MODIFIED:20200728T103521Z
UID:12768-1596276000-1596281400@spoonful.sg
SUMMARY:Parents & Kids French Class
DESCRIPTION:This class will be conducted in Japanese. \nFor English class\, please inquiry to info@alchemist.sg
URL:https://spoonful.sg/event/parents-kids-french-class/
LOCATION:Online
CATEGORIES:Featured Spoonful Workshop Events,Spoonful Workshops
ATTACH;FMTTYPE=image/jpeg:https://spoonful.sg/wp-content/uploads/2020/07/IMG_5346-1-scaled-e1597111641522.jpg
END:VEVENT
END:VCALENDAR