BEGIN:VCALENDAR
VERSION:2.0
PRODID:-//Spoonful - ECPv5.14.1//NONSGML v1.0//EN
CALSCALE:GREGORIAN
METHOD:PUBLISH
X-WR-CALNAME:Spoonful
X-ORIGINAL-URL:https://spoonful.sg
X-WR-CALDESC:Events for Spoonful
BEGIN:VTIMEZONE
TZID:Asia/Singapore
BEGIN:STANDARD
TZOFFSETFROM:+0800
TZOFFSETTO:+0800
TZNAME:+08
DTSTART:20200101T000000
END:STANDARD
END:VTIMEZONE
BEGIN:VEVENT
DTSTART;TZID=Asia/Singapore:20200803T100000
DTEND;TZID=Asia/Singapore:20200803T110000
DTSTAMP:20260421T200127
CREATED:20200724T082041Z
LAST-MODIFIED:20200729T062056Z
UID:12881-1596448800-1596452400@spoonful.sg
SUMMARY:Local Home Cooking with Ms Redhill
DESCRIPTION:Join us and Ms Redhill\, your friendly local grocer from Red Hill Market\, Singapore\, as she showcases and educates all about the fruits and vegetables that we eat\, along with a cooking demo!!! \n  \nMenu: ① Sambal Petai with Prawn – Portion for 3-4 persons \nIngredients: \n1 large Red/ White Onion – cut into 8 \n1 pkt Nyonya Sambal Sauce/ Paste  (200g) \n500g medium size prawns (Remove shells but leave the tail intact) \n1 pkt (250g) petai seeds \nSugar and  Salt \nAssam paste/ tamarind paste \n  \nMenu ②Ginger Sesame Oil Chicken – Portion for 3-4 persons) \nIngredients: \nApproximately 1.3- 1.4kg Whole Chicken – Chop into pieces \n2-3 inches Bentong Ginger knob – sliced \nSesame Oil \nSoy Sauce \nOyster Sauce \nSugar \n  \nIntroducing MsRedhill “ We Choose Quality” fresh produce from Local Singapore to overseas  🌶🥬🍅🥔🍆🌽 🍇🍍🍏🍄🍋 \nAt Ms Redhill\, we want our customers to remember us as not just another organic retailer. We want our customers to remember us as a real-life brick and mortar social sharing stall. We want to share what we learned with the customer. \nWe found that there is so many healthy eating knowledge of Vegetables and Fruits. Some of this knowledge is proven by generation\, some are new adventurous recipes\, some methods are personal finding and of course\, some are accidental discovery. There are so many small talks in our stall that we just like to share it all. \nAt Ms Redhill\, we are proud to provide our customer with healthy range and specialty products: \n\nSingapore farm Pesticide-free Vegetables.\nCertified Organic Vegetables.\nCarefully selected Seasonal Fruits.\nLast but not least\, we also carry your everyday vegetables.\n\nImportant: \n🥦 You are what you eat. << Do u know what you are really eating? >> \n🥦 Reward and treat your body well. << It’s your body! >> \n🥦 Spend a bit more to eat organic. << Pesticide-free vegetables! 100% Safe & Healthy to Eat!>> \n🥦 Start a healthy diet. << Healthy Diet\, Healthy Life! >> \n🥦 Support our local organic farms. << We are Singaporeans >> \nBuy $55 worth of fruits\, vegetables\, cooking condiments and etc. We\, MsRedhill will provide FREE delivery to your doorsteps. (Relax and chill at home while MsRedhill delivers to you). \n📌Choose from a variety of products from MsRedhill Website: https://msredhill.com/ \n  \nPlease read\, understand and agree to the TERMS & CONDITIONS before applying for our event.  \nAfter applying for the class\, we will send the recipe 3-7 days before class starts. Cancellation is not allowed after the recipe has been sent out.  \nPlease Sign up by 4:00pm on July 31 afternoon thank you  \nWe do not handle individual food allergies. Please attend the class at your own risk. \nTo participate\, you need a device that can connect to ZOOM and  WI-FI access \n\n\n☆ The class session will be recorded for internal and marketing purposes. It will also be provided to late-comers of the class\, for a limited time period. Should you wish not to be recorded\, kindly turn off your video after attendance has been taken. \n 
URL:https://spoonful.sg/event/local-vegetable-fruits-shop/
LOCATION:Online
CATEGORIES:Featured Spoonful Workshop Events,Spoonful Workshops
ATTACH;FMTTYPE=image/jpeg:https://spoonful.sg/wp-content/uploads/2020/07/72a1140d-aac1-4b96-a866-dd447498b73d.jpg
END:VEVENT
END:VCALENDAR