BEGIN:VCALENDAR
VERSION:2.0
PRODID:-//Spoonful - ECPv5.14.1//NONSGML v1.0//EN
CALSCALE:GREGORIAN
METHOD:PUBLISH
X-WR-CALNAME:Spoonful
X-ORIGINAL-URL:https://spoonful.sg
X-WR-CALDESC:Events for Spoonful
BEGIN:VTIMEZONE
TZID:Asia/Singapore
BEGIN:STANDARD
TZOFFSETFROM:+0800
TZOFFSETTO:+0800
TZNAME:+08
DTSTART:20200101T000000
END:STANDARD
END:VTIMEZONE
BEGIN:VEVENT
DTSTART;TZID=Asia/Singapore:20200827T100000
DTEND;TZID=Asia/Singapore:20200827T120000
DTSTAMP:20260421T205204
CREATED:20200724T072319Z
LAST-MODIFIED:20200725T022131Z
UID:12872-1598522400-1598529600@spoonful.sg
SUMMARY:French cooking and baking ~Tomato Farce and Bisque~
DESCRIPTION:This class will be conducted in Japanese. \nFor English class\, please inquiry to info@alchemist.sg
URL:https://spoonful.sg/event/french-cooking-tomatofarce-bisque/
LOCATION:Online
CATEGORIES:Featured Spoonful Workshop Events,Spoonful Workshops
ATTACH;FMTTYPE=image/jpeg:https://spoonful.sg/wp-content/uploads/2020/07/IMG_5567-scaled.jpg
END:VEVENT
END:VCALENDAR