BEGIN:VCALENDAR
VERSION:2.0
PRODID:-//Spoonful - ECPv5.14.1//NONSGML v1.0//EN
CALSCALE:GREGORIAN
METHOD:PUBLISH
X-WR-CALNAME:Spoonful
X-ORIGINAL-URL:https://spoonful.sg
X-WR-CALDESC:Events for Spoonful
BEGIN:VTIMEZONE
TZID:Asia/Singapore
BEGIN:STANDARD
TZOFFSETFROM:+0800
TZOFFSETTO:+0800
TZNAME:+08
DTSTART:20200101T000000
END:STANDARD
END:VTIMEZONE
BEGIN:VEVENT
DTSTART;TZID=Asia/Singapore:20201006T100000
DTEND;TZID=Asia/Singapore:20201006T113000
DTSTAMP:20260421T102753
CREATED:20200814T064144Z
LAST-MODIFIED:20200817T045627Z
UID:12956-1601978400-1601983800@spoonful.sg
SUMMARY:Japanese Home Cooking (Aji)
DESCRIPTION:This class will be conducted in Japanese. \nFor the English class\, please contact us at info@alchemist.sg .
URL:https://spoonful.sg/event/japanese-home-cooking-aji-2/
LOCATION:Online
CATEGORIES:Featured Spoonful Workshop Events,Spoonful Workshops
ATTACH;FMTTYPE=image/jpeg:https://spoonful.sg/wp-content/uploads/2020/06/aji2.jpg
END:VEVENT
END:VCALENDAR