BEGIN:VCALENDAR
VERSION:2.0
PRODID:-//Spoonful - ECPv5.14.1//NONSGML v1.0//EN
CALSCALE:GREGORIAN
METHOD:PUBLISH
X-WR-CALNAME:Spoonful
X-ORIGINAL-URL:https://spoonful.sg
X-WR-CALDESC:Events for Spoonful
BEGIN:VTIMEZONE
TZID:Asia/Singapore
BEGIN:STANDARD
TZOFFSETFROM:+0800
TZOFFSETTO:+0800
TZNAME:+08
DTSTART:20200101T000000
END:STANDARD
END:VTIMEZONE
BEGIN:VEVENT
DTSTART;TZID=Asia/Singapore:20201018T103000
DTEND;TZID=Asia/Singapore:20201018T123000
DTSTAMP:20260421T102752
CREATED:20201010T162555Z
LAST-MODIFIED:20201016T065359Z
UID:13188-1603017000-1603024200@spoonful.sg
SUMMARY:Basic Decoration Sushi Class
DESCRIPTION:This class will be conducted in Japanese. \nFor the English class\, please contact us at info@alchemist.sg .
URL:https://spoonful.sg/event/basic-decoration-sushi-class-2/
LOCATION:Online
CATEGORIES:Featured Spoonful Workshop Events,Spoonful Workshops
ATTACH;FMTTYPE=image/jpeg:https://spoonful.sg/wp-content/uploads/2020/10/WhatsApp-Image-2020-10-09-at-19.00.12.jpeg
END:VEVENT
END:VCALENDAR