BEGIN:VCALENDAR
VERSION:2.0
PRODID:-//Spoonful - ECPv5.14.1//NONSGML v1.0//EN
CALSCALE:GREGORIAN
METHOD:PUBLISH
X-WR-CALNAME:Spoonful
X-ORIGINAL-URL:https://spoonful.sg
X-WR-CALDESC:Events for Spoonful
BEGIN:VTIMEZONE
TZID:Asia/Singapore
BEGIN:STANDARD
TZOFFSETFROM:+0800
TZOFFSETTO:+0800
TZNAME:+08
DTSTART:20200101T000000
END:STANDARD
END:VTIMEZONE
BEGIN:VEVENT
DTSTART;TZID=Asia/Singapore:20201021T100000
DTEND;TZID=Asia/Singapore:20201021T120000
DTSTAMP:20260421T102750
CREATED:20200923T043536Z
LAST-MODIFIED:20200925T051657Z
UID:13122-1603274400-1603281600@spoonful.sg
SUMMARY:Online Icing Cookie Class ~Halloween~
DESCRIPTION:For the English class\, we will do privately\, please contact us! info@alchemist.sg
URL:https://spoonful.sg/event/online-cookie-class-halloween/
LOCATION:Online
CATEGORIES:Featured Spoonful Workshop Events,Spoonful Workshops
ATTACH;FMTTYPE=image/jpeg:https://spoonful.sg/wp-content/uploads/2020/09/unnamed-1.jpg
END:VEVENT
END:VCALENDAR