BEGIN:VCALENDAR
VERSION:2.0
PRODID:-//Spoonful - ECPv5.14.1//NONSGML v1.0//EN
CALSCALE:GREGORIAN
METHOD:PUBLISH
X-WR-CALNAME:Spoonful
X-ORIGINAL-URL:https://spoonful.sg
X-WR-CALDESC:Events for Spoonful
BEGIN:VTIMEZONE
TZID:Asia/Singapore
BEGIN:STANDARD
TZOFFSETFROM:+0800
TZOFFSETTO:+0800
TZNAME:+08
DTSTART:20200101T000000
END:STANDARD
END:VTIMEZONE
BEGIN:VEVENT
DTSTART;TZID=Asia/Singapore:20201119T100000
DTEND;TZID=Asia/Singapore:20201119T123000
DTSTAMP:20260421T044315
CREATED:20201028T060817Z
LAST-MODIFIED:20201119T034539Z
UID:13236-1605780000-1605789000@spoonful.sg
SUMMARY:Online Bread Baking Vol.3
DESCRIPTION:This class will be conducted in Japanese. \nFor English class\, please inquiry to info@alchemist.sg
URL:https://spoonful.sg/event/online-bread-baking-3/
LOCATION:Online
CATEGORIES:Featured Spoonful Workshop Events,Spoonful Workshops
ATTACH;FMTTYPE=image/jpeg:https://spoonful.sg/wp-content/uploads/2020/10/IMG_6581.jpg
END:VEVENT
END:VCALENDAR