BEGIN:VCALENDAR
VERSION:2.0
PRODID:-//Spoonful - ECPv5.14.1//NONSGML v1.0//EN
CALSCALE:GREGORIAN
METHOD:PUBLISH
X-WR-CALNAME:Spoonful
X-ORIGINAL-URL:https://spoonful.sg
X-WR-CALDESC:Events for Spoonful
BEGIN:VTIMEZONE
TZID:Asia/Singapore
BEGIN:STANDARD
TZOFFSETFROM:+0800
TZOFFSETTO:+0800
TZNAME:+08
DTSTART:20200101T000000
END:STANDARD
END:VTIMEZONE
BEGIN:VEVENT
DTSTART;TZID=Asia/Singapore:20201124T100000
DTEND;TZID=Asia/Singapore:20201124T100000
DTSTAMP:20260421T044315
CREATED:20201028T062759Z
LAST-MODIFIED:20201119T041725Z
UID:13245-1606212000-1606212000@spoonful.sg
SUMMARY:On-site Icing Cookie Class ~Hexenhaus~
DESCRIPTION:For the English class\, we will do privately\, please contact us! info@alchemist.sg
URL:https://spoonful.sg/event/hexenhaus-class/
LOCATION:on-site
CATEGORIES:Featured Spoonful Workshop Events,Spoonful Workshops
ATTACH;FMTTYPE=image/jpeg:https://spoonful.sg/wp-content/uploads/2019/11/hexenhaus3-e1572925832819.jpg
END:VEVENT
END:VCALENDAR