BEGIN:VCALENDAR
VERSION:2.0
PRODID:-//Spoonful - ECPv5.14.1//NONSGML v1.0//EN
CALSCALE:GREGORIAN
METHOD:PUBLISH
X-WR-CALNAME:Spoonful
X-ORIGINAL-URL:https://spoonful.sg
X-WR-CALDESC:Events for Spoonful
BEGIN:VTIMEZONE
TZID:Asia/Singapore
BEGIN:STANDARD
TZOFFSETFROM:+0800
TZOFFSETTO:+0800
TZNAME:+08
DTSTART:20200101T000000
END:STANDARD
END:VTIMEZONE
BEGIN:VEVENT
DTSTART;TZID=Asia/Singapore:20201202T100000
DTEND;TZID=Asia/Singapore:20201202T120000
DTSTAMP:20260420T232013
CREATED:20201102T080231Z
LAST-MODIFIED:20201202T024341Z
UID:13273-1606903200-1606910400@spoonful.sg
SUMMARY:Full House! On-site Icing Cookie Class ~Hexenhaus~
DESCRIPTION:For the English class\, we will do privately\, please contact us! info@alchemist.sg
URL:https://spoonful.sg/event/hexenhaus-class-2/
LOCATION:on-site
CATEGORIES:Featured Spoonful Workshop Events,Spoonful Workshops
ATTACH;FMTTYPE=image/jpeg:https://spoonful.sg/wp-content/uploads/2020/10/122599623_1741095706040365_7928283487560144696_n-scaled.jpg
END:VEVENT
END:VCALENDAR