BEGIN:VCALENDAR
VERSION:2.0
PRODID:-//Spoonful - ECPv5.14.1//NONSGML v1.0//EN
CALSCALE:GREGORIAN
METHOD:PUBLISH
X-WR-CALNAME:Spoonful
X-ORIGINAL-URL:https://spoonful.sg
X-WR-CALDESC:Events for Spoonful
BEGIN:VTIMEZONE
TZID:Asia/Singapore
BEGIN:STANDARD
TZOFFSETFROM:+0800
TZOFFSETTO:+0800
TZNAME:+08
DTSTART:20200101T000000
END:STANDARD
END:VTIMEZONE
BEGIN:VEVENT
DTSTART;TZID=Asia/Singapore:20201224T100000
DTEND;TZID=Asia/Singapore:20201224T120000
DTSTAMP:20260420T232006
CREATED:20201202T032221Z
LAST-MODIFIED:20201224T024756Z
UID:13424-1608804000-1608811200@spoonful.sg
SUMMARY:Online French Baking Christmas Dinner
DESCRIPTION:This class will be conducted in Japanese\, please inquiry to us for the English class.
URL:https://spoonful.sg/event/online-french-baking-christmas/
LOCATION:Online
CATEGORIES:Featured Spoonful Workshop Events,Spoonful Workshops
ATTACH;FMTTYPE=image/jpeg:https://spoonful.sg/wp-content/uploads/2020/12/IMG_0117-scaled.jpg
END:VEVENT
END:VCALENDAR