BEGIN:VCALENDAR
VERSION:2.0
PRODID:-//Spoonful - ECPv5.14.1//NONSGML v1.0//EN
CALSCALE:GREGORIAN
METHOD:PUBLISH
X-WR-CALNAME:Spoonful
X-ORIGINAL-URL:https://spoonful.sg
X-WR-CALDESC:Events for Spoonful
BEGIN:VTIMEZONE
TZID:Asia/Singapore
BEGIN:STANDARD
TZOFFSETFROM:+0800
TZOFFSETTO:+0800
TZNAME:+08
DTSTART:20210101T000000
END:STANDARD
END:VTIMEZONE
BEGIN:VEVENT
DTSTART;TZID=Asia/Singapore:20210114T093000
DTEND;TZID=Asia/Singapore:20210114T110000
DTSTAMP:20260420T173808
CREATED:20201102T082547Z
LAST-MODIFIED:20210110T083254Z
UID:13282-1610616600-1610622000@spoonful.sg
SUMMARY:Japanese Baby Food Class
DESCRIPTION:「食べることを生涯楽しむ為に・食の基本離乳食（初期・中期）クラス」開講します！！！　\n\n料理研究家で歯科衛生士でもある、口腔と味覚の点から考える離乳食のクラスを開催します。\n離乳食は食の基本となるものです。\n生涯にわたって食事を楽しめるように、子供の「口腔」の発達・「旨味」の味覚を成長させてあげられるのは、親からの大きなプレゼントですね。\n理論を知っていれば、離乳食に躓かなくなります。\n一緒に学んで離乳食の時期を楽しく過ごしましょう。\n現在妊娠中のママから今まさに離乳食を作っているママまで、ご参加されませんか。\n\n\n講座内容\n前半（初期から中期にかけて、5ヶ月～7.8ヶ月）\n\n口腔と離乳食について\n離乳食開始の時期、時間帯と食材\n子供の味覚を育てる\n具体的な離乳食の作り方や離乳食の紹介\nお悩み相談\n\n【講師　河崎　千代美】 \n \n美味しくてほっとする。そして毎日食べても飽きずにまた食べたくなるぬくもりがある。ごく普通の和食の献立、それらを目の前にすると私たちはどこかほっとした気分になります。 \nだしの「うまみ」を上手に使うことによって脂肪分の少ない健康的な食生活が実現できます。和食はむずかしいと思われがちですが、じつは非常にシンプルで簡単です。 \n上質な昆布とかつお節から作る“だし”をふんだんに使って一汁三菜を基本としたレッスンを開催しています。 \n毎日食べたい、毎日食べても飽きない“普段着の和食”“おうちのご馳走”にこだわり、手軽で美味しい和食ごはんを作っていただけるよう基本やコツをわかりやすくお伝えします。 \n  \n活動 \n2017年度　寿司大使 \n2017年～　昆布大使 \n2017年～　お味噌汁復活委員会　委員 \n  \n指導歴      \n2011年 \nフォーシーズンホテルシェフ（エジプトアレキサンドリア） \nシェフにお寿司にあうおかず、家庭料理などを指導する。 \n2013年 \n日本にて飾り巻き寿司の普及指導にあたる \n2014年～ \n和食（おばんざい）家庭料理などエジプトで食の苦労をした体験から、海外でも美味しく  日本の家庭料理を作るための指導・研究をシンガポールで始める。 \n2017年～ \n和食や日本の家庭料理が作れるメイドの育成（指導）に関わる。 \n延べ250人超のメイドに指導している。 \n2017年～\nシンガポール日本人会で、飾り巻き寿司と日本の家庭料理講座、四季のおばんざい講座、 \n親子で飾り巻き寿司講座を担当し指導にあたる。 \n2018年～ \nメイドの料理だけでなく、掃除や日々の作業についても総合的な個人指導を始める。 \n2019年～ \nマレーシアでメイドレッスン、和食おばんざい料理教室を開催する \nSpoonfulの提携講師として、SHISEIDOはじめ各種大手企業のイベントでも活躍。 \n  \n【諸条件抜粋：全体（TERMS & CONDITIONS APPLY）も含め必ずご一読・ご理解の上、弊社イベントにお申込み下さい。】 \nクラス申込後のキャンセルはイベン自体がキャンセルにならない場合キャンセル、ご返金はお受けしておりません。 \n個々の食のアレルギーへの対応は弊社では受けておりません。　個人の責任においてイベントにご参加下さい。
URL:https://spoonful.sg/event/baby_food_class-3-2/
LOCATION:Online
CATEGORIES:Featured Spoonful Workshop Events,Spoonful Workshops
ATTACH;FMTTYPE=image/jpeg:https://spoonful.sg/wp-content/uploads/2020/02/IMG_2797.jpg
END:VEVENT
BEGIN:VEVENT
DTSTART;TZID=Asia/Singapore:20210114T130000
DTEND;TZID=Asia/Singapore:20210114T143000
DTSTAMP:20260420T173808
CREATED:20201113T065148Z
LAST-MODIFIED:20210110T083402Z
UID:13326-1610629200-1610634600@spoonful.sg
SUMMARY:On line Japanese Baby Food Class
DESCRIPTION:後半（中期から後期、9ヶ月～1.6ヶ月）\n\n離乳食の注意が必要な食材・安全な食材について\n歯の衛生と歯磨き、道具や歯磨きの方法について\n離乳食材の大きさ、堅さについて\n献立づくりとお祝い・季節の行事食\n\n  \n【講師　河崎　千代美】 \n \n美味しくてほっとする。そして毎日食べても飽きずにまた食べたくなるぬくもりがある。ごく普通の和食の献立、それらを目の前にすると私たちはどこかほっとした気分になります。 \nだしの「うまみ」を上手に使うことによって脂肪分の少ない健康的な食生活が実現できます。和食はむずかしいと思われがちですが、じつは非常にシンプルで簡単です。 \n上質な昆布とかつお節から作る“だし”をふんだんに使って一汁三菜を基本としたレッスンを開催しています。 \n毎日食べたい、毎日食べても飽きない“普段着の和食”“おうちのご馳走”にこだわり、手軽で美味しい和食ごはんを作っていただけるよう基本やコツをわかりやすくお伝えします。 \n  \n活動 \n2017年度　寿司大使 \n2017年～　昆布大使 \n2017年～　お味噌汁復活委員会　委員 \n  \n指導歴      \n2011年 \nフォーシーズンホテルシェフ（エジプトアレキサンドリア） \nシェフにお寿司にあうおかず、家庭料理などを指導する。 \n2013年 \n日本にて飾り巻き寿司の普及指導にあたる \n2014年～ \n和食（おばんざい）家庭料理などエジプトで食の苦労をした体験から、海外でも美味しく  日本の家庭料理を作るための指導・研究をシンガポールで始める。 \n2017年～ \n和食や日本の家庭料理が作れるメイドの育成（指導）に関わる。 \n延べ250人超のメイドに指導している。 \n2017年～\nシンガポール日本人会で、飾り巻き寿司と日本の家庭料理講座、四季のおばんざい講座、 \n親子で飾り巻き寿司講座を担当し指導にあたる。 \n2018年～ \nメイドの料理だけでなく、掃除や日々の作業についても総合的な個人指導を始める。 \n2019年～ \nマレーシアでメイドレッスン、和食おばんざい料理教室を開催する \nSpoonfulの提携講師として、SHISEIDOはじめ各種大手企業のイベントでも活躍。 \n  \n【諸条件抜粋：全体（TERMS & CONDITIONS APPLY）も含め必ずご一読・ご理解の上、弊社イベントにお申込み下さい。】 \nクラス申込後のキャンセルはイベン自体がキャンセルにならない場合キャンセル、ご返金はお受けしておりません。 \n個々の食のアレルギーへの対応は弊社では受けておりません。　個人の責任においてイベントにご参加下さい。 \n*お持ち帰りのお食事に関しては、持ち帰り後の食の保管状態に責任が負えない為、「ご自身の意思でお持ち帰り頂く。」意思同意書に \nご署名を頂いた方のみお持ち帰り頂いております。
URL:https://spoonful.sg/event/baby_food_class-later-period/
LOCATION:Online
CATEGORIES:Featured Spoonful Workshop Events,Spoonful Workshops
ATTACH;FMTTYPE=image/jpeg:https://spoonful.sg/wp-content/uploads/2020/02/mini_IMG_0223.jpg
END:VEVENT
END:VCALENDAR