BEGIN:VCALENDAR
VERSION:2.0
PRODID:-//Spoonful - ECPv5.14.1//NONSGML v1.0//EN
CALSCALE:GREGORIAN
METHOD:PUBLISH
X-WR-CALNAME:Spoonful
X-ORIGINAL-URL:https://spoonful.sg
X-WR-CALDESC:Events for Spoonful
BEGIN:VTIMEZONE
TZID:Asia/Singapore
BEGIN:STANDARD
TZOFFSETFROM:+0800
TZOFFSETTO:+0800
TZNAME:+08
DTSTART:20210101T000000
END:STANDARD
END:VTIMEZONE
BEGIN:VEVENT
DTSTART;TZID=Asia/Singapore:20210202T103000
DTEND;TZID=Asia/Singapore:20210202T120000
DTSTAMP:20260420T124809
CREATED:20201202T064105Z
LAST-MODIFIED:20210128T041035Z
UID:13442-1612261800-1612267200@spoonful.sg
SUMMARY:Online French Baking Crepe and Buckwheat Galette Class
DESCRIPTION:This class will be conducted in Japanese\, please inquiry to us for the English class.
URL:https://spoonful.sg/event/online-french-baking-crepe-galette/
LOCATION:Online
CATEGORIES:Featured Spoonful Workshop Events,Spoonful Workshops
ATTACH;FMTTYPE=image/jpeg:https://spoonful.sg/wp-content/uploads/2020/12/IMG_7349.jpg
END:VEVENT
END:VCALENDAR