BEGIN:VCALENDAR
VERSION:2.0
PRODID:-//Spoonful - ECPv5.14.1//NONSGML v1.0//EN
CALSCALE:GREGORIAN
METHOD:PUBLISH
X-WR-CALNAME:Spoonful
X-ORIGINAL-URL:https://spoonful.sg
X-WR-CALDESC:Events for Spoonful
BEGIN:VTIMEZONE
TZID:Asia/Singapore
BEGIN:STANDARD
TZOFFSETFROM:+0800
TZOFFSETTO:+0800
TZNAME:+08
DTSTART:20210101T000000
END:STANDARD
END:VTIMEZONE
BEGIN:VEVENT
DTSTART;TZID=Asia/Singapore:20210302T110000
DTEND;TZID=Asia/Singapore:20210302T123000
DTSTAMP:20260420T074028
CREATED:20210208T024859Z
LAST-MODIFIED:20210301T033740Z
UID:13749-1614682800-1614688200@spoonful.sg
SUMMARY:Online Method of Lunch Box Class
DESCRIPTION:This class will be conducted in Japanese\, please inquiry to us for the English class.
URL:https://spoonful.sg/event/online-method-of-lunch-box-class/
LOCATION:Online
CATEGORIES:Featured Spoonful Workshop Events,Spoonful Workshops
ATTACH;FMTTYPE=image/jpeg:https://spoonful.sg/wp-content/uploads/2021/02/image1-rotated.jpeg
END:VEVENT
END:VCALENDAR