BEGIN:VCALENDAR
VERSION:2.0
PRODID:-//Spoonful - ECPv5.14.1//NONSGML v1.0//EN
CALSCALE:GREGORIAN
METHOD:PUBLISH
X-WR-CALNAME:Spoonful
X-ORIGINAL-URL:https://spoonful.sg
X-WR-CALDESC:Events for Spoonful
BEGIN:VTIMEZONE
TZID:Asia/Singapore
BEGIN:STANDARD
TZOFFSETFROM:+0800
TZOFFSETTO:+0800
TZNAME:+08
DTSTART:20210101T000000
END:STANDARD
END:VTIMEZONE
BEGIN:VEVENT
DTSTART;TZID=Asia/Singapore:20210410T140000
DTEND;TZID=Asia/Singapore:20210410T151500
DTSTAMP:20260420T023530
CREATED:20210407T040521Z
LAST-MODIFIED:20210407T072734Z
UID:14044-1618063200-1618067700@spoonful.sg
SUMMARY:Online Class
DESCRIPTION:This class will be conducted in only Japanese.\nPlease inquire English class at info@alchemist.sg
URL:https://spoonful.sg/event/online-class/
LOCATION:Online
CATEGORIES:Featured Spoonful Workshop Events,Spoonful Workshops
ATTACH;FMTTYPE=image/jpeg:https://spoonful.sg/wp-content/uploads/2021/04/女性・ママのための起業準備講座～宣材写真～.jpeg
END:VEVENT
END:VCALENDAR