BEGIN:VCALENDAR
VERSION:2.0
PRODID:-//Spoonful - ECPv5.14.1//NONSGML v1.0//EN
CALSCALE:GREGORIAN
METHOD:PUBLISH
X-WR-CALNAME:Spoonful
X-ORIGINAL-URL:https://spoonful.sg
X-WR-CALDESC:Events for Spoonful
BEGIN:VTIMEZONE
TZID:Asia/Singapore
BEGIN:STANDARD
TZOFFSETFROM:+0800
TZOFFSETTO:+0800
TZNAME:+08
DTSTART:20210101T000000
END:STANDARD
END:VTIMEZONE
BEGIN:VEVENT
DTSTART;TZID=Asia/Singapore:20210420T103000
DTEND;TZID=Asia/Singapore:20210420T123000
DTSTAMP:20260420T023532
CREATED:20210312T025536Z
LAST-MODIFIED:20210416T031745Z
UID:13872-1618914600-1618921800@spoonful.sg
SUMMARY:Full House! Hand-On Spring Cookie Class
DESCRIPTION:For the English class\, we will do privately\, please contact us! info@alchemist.sg
URL:https://spoonful.sg/event/spring-cookie-class/
LOCATION:鶏金 TORIKIN\, 205 River Valley Road #01-75 UE Square\, 238274\, Singapore
CATEGORIES:Featured Spoonful Workshop Events,Spoonful Workshops
ATTACH;FMTTYPE=image/jpeg:https://spoonful.sg/wp-content/uploads/2021/03/154589005_2004255076379089_8344283805197049239_n.jpg
END:VEVENT
END:VCALENDAR