BEGIN:VCALENDAR
VERSION:2.0
PRODID:-//Spoonful - ECPv5.14.1//NONSGML v1.0//EN
CALSCALE:GREGORIAN
METHOD:PUBLISH
X-WR-CALNAME:Spoonful
X-ORIGINAL-URL:https://spoonful.sg
X-WR-CALDESC:Events for Spoonful
BEGIN:VTIMEZONE
TZID:Asia/Singapore
BEGIN:STANDARD
TZOFFSETFROM:+0800
TZOFFSETTO:+0800
TZNAME:+08
DTSTART:20210101T000000
END:STANDARD
END:VTIMEZONE
BEGIN:VEVENT
DTSTART;TZID=Asia/Singapore:20210504T103000
DTEND;TZID=Asia/Singapore:20210504T123000
DTSTAMP:20260419T212002
CREATED:20210406T045305Z
LAST-MODIFIED:20210501T044316Z
UID:14034-1620124200-1620131400@spoonful.sg
SUMMARY:Hand-On Children's Day Cookie Class
DESCRIPTION:For the English class\, we will do privately\, please contact us! info@alchemist.sg
URL:https://spoonful.sg/event/children-day-cookie-class/
LOCATION:鶏金 TORIKIN\, 205 River Valley Road #01-75 UE Square\, 238274\, Singapore
CATEGORIES:Featured Spoonful Workshop Events,Spoonful Workshops
ATTACH;FMTTYPE=image/jpeg:https://spoonful.sg/wp-content/uploads/2021/04/173839151_466766421311176_5328906404144778070_n-scaled.jpg
END:VEVENT
END:VCALENDAR