BEGIN:VCALENDAR
VERSION:2.0
PRODID:-//Spoonful - ECPv5.14.1//NONSGML v1.0//EN
CALSCALE:GREGORIAN
METHOD:PUBLISH
X-WR-CALNAME:Spoonful
X-ORIGINAL-URL:https://spoonful.sg/ja
X-WR-CALDESC:Spoonful のイベント
BEGIN:VTIMEZONE
TZID:Asia/Singapore
BEGIN:STANDARD
TZOFFSETFROM:+0800
TZOFFSETTO:+0800
TZNAME:+08
DTSTART:20180101T000000
END:STANDARD
END:VTIMEZONE
BEGIN:VEVENT
DTSTART;TZID=Asia/Singapore:20180125T103000
DTEND;TZID=Asia/Singapore:20180125T133000
DTSTAMP:20260420T022443
CREATED:20171201T040605Z
LAST-MODIFIED:20180124T011828Z
UID:4492-1516876200-1516887000@spoonful.sg
SUMMARY:旧正月特別クラス！「福」招聘パイ！
DESCRIPTION:クラスに関して美味しくパイを焼いてみたい方！　ご家庭でも美味しい生地が作れます。　シンガポールの中国正月の時期に「福」を呼び込むパイを焼いてみませんか？　福の字が逆さまなのは「倒福（とうふく）」という、福が来るとういう中国語の発音と「倒福（とうふく）」が同じ為、福をわざと逆さまに（倒して）います。 \n1月13日（土）のクラスは英語主体になります。　（講師は日本人の為、クラス後のご質問、レシピは日本語でどうぞ！　日本語クラスは1月25日（木）になります。 \nメニュー抹茶、小豆のフィリング入りパイ \nClass Format / Programme– 講師によるパイ生地の工程デモ（実際には寝かせる時間が長時間かかる作業なので、クラスでは工程の一部をお見せいたします。）– パイ生地の作成（上記に同じ）を、各自行います。– アーモンドクリームをベースに抹茶と小豆でフィリングを作ります– パイの組み立てと焼成 \n  \n講師　YUKI\nパリの６年間の滞在の間に伝統的なフランス菓子、料理を学ぶ。.　フランスの製菓製作国家資格 “CAP (Certificat d’Aptitude Professionnelle) Pâtissier” 、ソムリエ資格保持者。　Spoonfulではフランス菓子の技術を一般家庭でも再現できるように、レシピを工夫し、美味しく楽しいお菓子クラスを開催中。　\n\n\n \n持ち物\nパイを持ち帰る箱（サイズ詳細は前日までのファイナルメールでお伝えします。）、袋\n\n\n \nその他\nアレルギーの心配ある方ご相談下さい。info@alchemist.sg　\n\n \n\n\n\n\n諸条件・注意事項\n1.イベント主催会社、Spoonful(Alchemist Pte Ltd ）は個人の食物アレルギーに対しては一切責任を負いません。　\n2.イベントお申し込み後のキャンセル・ご返金は受けておりませんが、譲渡は可能です。　\n譲渡の場合はご連絡をお願いいたします。　info@alchemist.sg \nイベント自体がキャンセルの場合は全額ご返金をさせて頂きます。（イベント開催可否はイベント日開催日より3日前までにご連絡をさせて頂きます。）\n3. 開催中に撮影した画像・映像の掲載権は主催者に属します。イベント時に弊社で撮影しました映像・画像は、弊社の管理の元、広報宣伝に使用する場合もございます。\n4.ネットワークビジネス・他イベント・商品販売・宗教活動等の勧誘行為を目的とする方、反社会的勢力関係者の方のイベント参加は規約にて禁止しております。\n5.本ページのイメージ画像はイメージで当日ご提供されるものとは異なる場合もございます。\n6. Spoonful(Alchemist Pte. Ltd.）は参加社の方にイベント参加後もイベントのご案内をメールにてさせて頂きます。\n \n\n\nお問合せ先\ninfo@alchemist.sg（ご連絡を頂いた後土日祝日を除く48時間以内にご返信をさせて頂いております。　ご連絡が弊社からない場合は、メールが届いていない可能性もございます。　再度のご連絡をお願いいたします。）
URL:https://spoonful.sg/ja/event/cny-matcha-azuki-prosperity-pie/
LOCATION:Origins of Food\, One Farrer Hotel & Spa\, 1 FARRER PARK STATION ROAD SINGAPORE 217562 (FARRER PARK MRT EXIT C / NEXT TO TAXI STAND)\, Singapore\, 217562\, Singapore
CATEGORIES:Featured Spoonful Workshop Events,Spoonful Workshops
ATTACH;FMTTYPE=image/jpeg:https://spoonful.sg/wp-content/uploads/2017/12/Spoonful-hero81_CNY_Matcha-Azuki-Prosperity-Pie.jpg
END:VEVENT
END:VCALENDAR