BEGIN:VCALENDAR
VERSION:2.0
PRODID:-//Spoonful - ECPv5.14.1//NONSGML v1.0//EN
CALSCALE:GREGORIAN
METHOD:PUBLISH
X-WR-CALNAME:Spoonful
X-ORIGINAL-URL:https://spoonful.sg/ja
X-WR-CALDESC:Spoonful のイベント
BEGIN:VTIMEZONE
TZID:Asia/Singapore
BEGIN:STANDARD
TZOFFSETFROM:+0800
TZOFFSETTO:+0800
TZNAME:+08
DTSTART:20210101T000000
END:STANDARD
END:VTIMEZONE
BEGIN:VEVENT
DTSTART;TZID=Asia/Singapore:20210620T133000
DTEND;TZID=Asia/Singapore:20210620T143000
DTSTAMP:20260424T113355
CREATED:20210524T024324Z
LAST-MODIFIED:20210616T022023Z
UID:14259-1624195800-1624199400@spoonful.sg
SUMMARY:【オンライン】父の日に!ノングルテン甘酒チーズケーキクラス
DESCRIPTION:今回「甘酒」を使用したレシピのリクエストにお応えしてでき上がったオンラインクラスです！ \n  \n～毎日頑張っているお父さんへ \n”カラダにやさしい”ベイクドチーズケーキを作ってみませんか？～ \n  \nチーズケーキの土台となるクッキー生地は、”ノングルテン”で一から丁寧に手作りします。 \nまた、上のクリーム生地には「甘酒」を加えて上品な甘さに仕上げました！ \n  \n芳香なチーズの香り漂う甘じょっぱいクッキー生地の上に、なめらかで上品な甘さのクリームチーズをたっぷりとのせて焼き上げた、お酒にも合うスイーツです。 \n  \n甘いものが苦手なお父さんも \nもちろんスイーツ好きなお父さんも \nココロとカラダが喜ぶ、そんなチーズケーキを目指してつくります。 \n  \nご家庭に合わせてレシピのアレンジも可能。 \n”定番スイーツ”だからこそ、一生モノのレシピにして欲しい！ \nそんな想いからできあがったクラスです。 \nまた、甘酒を使用したスイーツレシピを２種類プレゼントいたします。 \n  \n  \n～こんな方にオススメです！～ \n☆お父さんに手作りスイーツを作って喜んでもらいたい。 \n☆簡単・手軽にスイーツづくりをしたい。 \n☆グルテンフリースイーツに興味がある。 \n☆甘さ控えめでも美味しいスイーツを作ってみたい。 \n☆甘いものが苦手なお父さんでも、一緒にスイーツを楽しみたい。 \n☆からだに優しいスイーツづくりをしてみたい。 \n☆身体に良いとされる甘酒について、詳しく知りたい。 \n☆甘酒を使ったレシピを知りたい。 \n  \n  \n～１年に１度の大切な日に、 \nカラダ想いの美味しいスイーツを一緒に手作りしてみませんか？～ \n  \n  \n\n\n【日　時】　６月20日（日）　13：30-14:30　1時間　～オンライン～ \n【内　容】　ベイクドチーズケーキ 15㎝型 1台分を一緒につくります。 \n甘酒を使用したスイーツ２種類のレシピをプレゼント！ \n\n【価　格】　S$20 \n【定　員】   10組様限定！ \n  \n＜使用する調理器具＞ \nボウル、泡だて器、ゴムべら、クッキングシート \n15㎝のケーキ型もしくは \nパウンドケーキ型（縦21.5㎝×横11㎝×高さ5.5㎝） \nオーブン　　　※オーブンの代わりにトースターを使用される方はご相談ください。（お問合せ info@alchemist.sg まで） \n  \n＜主に使用する材料＞ \nクリームチーズ、甘酒※、全卵、はちみつ、レモン、食塩、米粉、 \n植物油、パルメザンチーズ \n\n※今回使用する甘酒は”米麹”の甘酒になります。 \n\n※クラスの１週間前にレシピをお送りいたします。 \n  \n  \n\n【諸条件抜粋：全体（TERMS & CONDITIONS APPLY）も含め必ずご一読・ご理解の上、弊社イベントにお申込み下さい。】 \nクラス申込後、クラスで使用する資料を1週間前～3日前を目安にお送りしております。 \n資料送信後のキャンセルは100％キャンセル料金がかかります。 \n個々の食のアレルギーおよび衛生環境への対応は弊社では受けておりません。　個人の責任においてイベントにご参加下さい。 \n参加に際しては、ZOOMに接続できるディバイス、WIFI環境が必要になります。 \n\n\n☆クラス中はZOOMクラスの様子を弊社にてビデオ録画します。　 \nビデオは今後弊社のマーケティングや、後日有料でビデオを観たい方にお見せする場合（販売）もございます。　この為、映り込みをご希望されない方は出欠ご確認後、ビデオをオフにして下さい。 \n\n\n  \n講師プロフィール\n佐藤 雅代 \nEDUCATION・ Kagoshimajunshin Junior College Nutritionistcourse 2007.4-2009.3鹿児島純心短期大学　食物栄養専攻QUALIFICATIONS(Japan) \n・栄養士 \n・食品衛生責任者 \n・フードサイエンティスト \n・食育実践プランナー \n・テーブルコーディネーター \n2017年からマレーシアで栄養士としてボランティア活動をしたのち、\n2019年にシンガポールへ。現在栄養士として活動。一女一男の母。 \nアメブロ：https://ameblo.jp/masaasia1108 \nインスタグラム：https://instagram.com/masa_tasty_mikan?igshid=i8ygxc915vxl
URL:https://spoonful.sg/ja/event/fathers_day_sweets_cooking_class/
LOCATION:Online
CATEGORIES:Featured Spoonful Workshop Events,Spoonful Workshops
ATTACH;FMTTYPE=image/jpeg:https://spoonful.sg/wp-content/uploads/2021/05/1621826268897.jpg
END:VEVENT
END:VCALENDAR