BEGIN:VCALENDAR
VERSION:2.0
PRODID:-//Spoonful - ECPv5.14.1//NONSGML v1.0//EN
CALSCALE:GREGORIAN
METHOD:PUBLISH
X-WR-CALNAME:Spoonful
X-ORIGINAL-URL:https://spoonful.sg/ja
X-WR-CALDESC:Spoonful のイベント
BEGIN:VTIMEZONE
TZID:Asia/Singapore
BEGIN:STANDARD
TZOFFSETFROM:+0800
TZOFFSETTO:+0800
TZNAME:+08
DTSTART:20200101T000000
END:STANDARD
END:VTIMEZONE
BEGIN:VEVENT
DTSTART;TZID=Asia/Singapore:20201214T100000
DTEND;TZID=Asia/Singapore:20201214T120000
DTSTAMP:20260416T162007
CREATED:20201102T080414Z
LAST-MODIFIED:20201202T024747Z
UID:13278-1607940000-1607947200@spoonful.sg
SUMMARY:満席！【出張レッスン】お菓子の家～ヘクセンハウス作り～
DESCRIPTION:クリスマス気分が盛り上がる事間違い無しのヘクセンハウス作り \n今年は出張レッスンを致します！　申し込み：info@alchemist.sg \nご自宅やコンドのパーティルームで\n仲良し親子グループや気の合うお友達と一緒にいかがですか？ \n丁度良い硬さのクリームを使って失敗しないヘクセンハウス作りを楽しみましょう！ \n基本の材料、道具は全て講師が準備致します。 \n\n  \n\n☆定員:2名様(2セット)〜4名様(4セット)\n☆日程:平日限定\n11月24日（火）満席となりました。 \n12月2日（水）満席となりました。 \n12月10日（木）満席となりました。 \n12月14日（月）満席となりました。 \n  \n☆時間:平日午前中、 10時〜12時(2時間ぐらいを目安に。時間変更はお問い合わせください) \n※上記日程以外でご参加ご希望の場合は、お問合せ下さい。　先着2件までお受けしています。 \nお客様のご希望日をもとに一緒にご相談させて頂きます。info@alchemist.sg \n☆料金:1セットS$100(2セットより受付) 交通費込み \n  \n【特典①】 \n※4名様キャンペーン！ 4セットお申し込みの方は更に10%off \n\n\n【特典②】 \nお子様連れのグループにはデコレーション用のお菓子3種をお付け致します。 \n大人の方のみグループにはクリスマスに因んだアイシングクッキーを更に1枚作って頂きます。 \n  \n\n\n《内容》\nお家のクッキーパーツ(土台込み)*\nアイシングクリーム\n飾りパーツ(ツリー、ジンジャーマン、リース)\n飾り用クリアBox\n*家の正面と裏の壁は仕上がっている(クリームが既に塗られている)物をご用意致します。 \n不安解消の為に、まずパイピングの練習をしてから実際のクッキーにデコレートしていきます\n私が必ず「倒れないお家」を完成させますので、不安なく一緒に楽しく作っていきましょう！ \n  \n★画像は去年のサンプルです。\n当日はご自身のお好きなデザインで仕上げられるように私もお手伝い致します！ \n \n\n*Images are for reference only \n【諸条件抜粋：全体（TERMS & CONDITIONS APPLY）も含め必ず以下についてご一読・ご理解の上、弊社イベントにお申込み下さい。】 \n  \n\n\n【調理者の安全対策】 \nー調理中マスク着用 \n―検温を伺う前にさせていただきます \nー手の消毒 \nー参加者みなさまに体温計をご持参いただき検温していただきます。 \n  \n【ご注意】 \nーコロナ感染症対策の一環として、政府から要求があれば、ご訪問したご家庭のご住所をお知らせすることがございます。 \nーフェーズ2の状況は、今後状況が変わる事もあるかもしれません。　その際にサービスの提供ができなくなることもございます。 \nーご本人・家人が病気の場合のご訪問：感染症（風邪、インフルエンザ、ノロ、コロナ、ＳＨＮ等）を伴う病気の場合は大変申し訳ございませんが、お伺い控えさせていただいております。 \nー講師を含め参加者の皆様にはマスク着用をお願いいたします。検温をいたしますので体温計をご持参ください。 \nーフェーズ2の期間、公の場での集まりは講師人数も含めて5名までとなります。ご自宅の場合は、ご自宅在住者を除く、講師を含めて5名まで。人数制限については乳幼児のお子様も１名としてカウントされます。ご注意ください。 \n  \n【日程変更およびキャンセル料金について】 \nー１回目の日程変更については無料とさせていただきます。（イベント開催日より２日前まで。例：18日のイベントなら15日24時まで） \nー２回目以降の日程変更、またはクラス2日前をすぎてのキャンセルについては半額をご負担していただきます。 \n（例：18日のイベントなら16日24時1分より） \n\n\n\n\n\nABOUT INSTRUCTOR  \n\n\n\nMIZUHO \n  \n \nアイシングクッキー講師。1男1女の母。アイシングディプロマ資格取得後、2017年からドイツ、ミュンヘンでアイシングクッキー教室を開催。 \n2019年からSpoonful講師としてシンガポールでアイシングクッキークラスを担当。可愛さは勿論、安心して美味しく食べられるアイシングクッキーづくりを心掛けています。一般クラス以外にも、親子教室、プライベートクラス、学校での出張講師も努めます。お問合せ下さい。 \n資格：JSA（日本サロネーゼ協会公認）認定アイシング講師資格
URL:https://spoonful.sg/ja/event/hexenhaus-class-2-2-2/
LOCATION:on-site
CATEGORIES:Featured Spoonful Workshop Events,Spoonful Workshops
ATTACH;FMTTYPE=image/jpeg:https://spoonful.sg/wp-content/uploads/2020/10/122599623_1741095706040365_7928283487560144696_n-scaled.jpg
END:VEVENT
END:VCALENDAR