BEGIN:VCALENDAR
VERSION:2.0
PRODID:-//Spoonful - ECPv5.14.1//NONSGML v1.0//EN
CALSCALE:GREGORIAN
METHOD:PUBLISH
X-WR-CALNAME:Spoonful
X-ORIGINAL-URL:https://spoonful.sg/ja
X-WR-CALDESC:Spoonful のイベント
BEGIN:VTIMEZONE
TZID:Asia/Singapore
BEGIN:STANDARD
TZOFFSETFROM:+0800
TZOFFSETTO:+0800
TZNAME:+08
DTSTART:20200101T000000
END:STANDARD
END:VTIMEZONE
BEGIN:VEVENT
DTSTART;TZID=Asia/Singapore:20200825T153000
DTEND;TZID=Asia/Singapore:20200825T170000
DTSTAMP:20260416T143453
CREATED:20200722T055518Z
LAST-MODIFIED:20200814T033532Z
UID:12831-1598369400-1598374800@spoonful.sg
SUMMARY:テーマ別おかずクラス【キャベツのおかず】
DESCRIPTION:【オンラインクラス】作り置きクラス \n世界中どこからでもご参加いただけます！（WEBの表示時間はシンガポール時間です。　お支払いはシンガポールドルでの決済になります。） \nプライベートシェフとして作り置きのプロ講師河崎のシリーズ「テーマ別おかずクラス」を開催！ \n今回は下ごしらえ野菜を使ったおかずのアレンジ講座（キャベツ編）\nひとつの野菜ゆでたりするだけではない、下ごしらえしておくというストック\n方法です。\nキャベツは調理方法で1個待つごとでもらくらく食べられます。新鮮なうちに\nひと手間かけておくだけでずっと美味しく召し上がっていただけます。\nそして、簡単にさっと作れて、ちょこっと味付けをしておけば、そのままでも\n食べられるし、アレンジも自在にできえ美味しさ倍増です。 \n  \n作り置きは一人で実行すると、なかなかしんどいですが、クラスで作ってみませんか？ \nWEBやYoutube一方向だけではなく、一緒に調理し、疑問点はその場で解決できるオンラインクラスです。 \n  \nメニュー \nキャベツのコロッケ\nキャベツの塩こうじコールスロー\nキャベツのトルティーヤ風 \n \n★事前に準備が必要な材料は以下の通りです。 \n後日お伝えいたします。 \n★必要な道具 \n後日お伝えいたします。 \n  \n【諸条件抜粋：全体（TERMS & CONDITIONS APPLY）も含め必ずご一読・ご理解の上、弊社イベントにお申込み下さい。】 \nクラス申込後、レシピを1週間前～3日前を目安にお送りしております。　レシピ送信後のキャンセルは100％キャンセル料金がかかります。 \nお申し込みは8月21日午後４時までにお願いいたします。 \n個々の食のアレルギーへの対応は弊社では受けておりません。　個人の責任においてイベントにご参加下さい。 \n参加に際しては、ZOOMに接続できるディバイス、WIFI環境が必要になります。 \n\n\n☆クラス中はZOOMクラスの様子を弊社にてビデオ録画します。　 \nビデオは今後弊社のマーケティングや、後日有料でビデオを観たい方にお見せする場合（販売）もございます。　この為、映り込みをご希望されない方は出欠ご確認後、ビデオをオフにして下さい。 \n\n\n  \n【講師　河崎　千代美】 \n \n美味しくてほっとする。そして毎日食べても飽きずにまた食べたくなるぬくもりがある。ごく普通の和食の献立、それらを目の前にすると私たちはどこかほっとした気分になります。だしの「うまみ」を上手に使うことによって脂肪分の少ない健康的な食生活が実現できます。和食はむずかしいと思われがちですが、じつは非常にシンプルで簡単です。上質な昆布とかつお節から作る“だし”をふんだんに使って一汁三菜を基本としたレッスンを開催しています。　また家庭で入る素材で再現可能なお菓子作りも開催させ頂いております。 \n毎日食べたい、毎日食べても飽きない“普段着の和食”、”おうちのご馳走”にこだわり、手軽で美味しい和食ごはん・お菓子を作っていただけるよう基本やコツをわかりやすくお伝えします。 \n  \n活動　2017年度　寿司大使／2017年～　昆布大使／2017年～　お味噌汁復活委員会　委員 \n  \n指導歴     2011年フォーシーズンホテルシェフ（エジプトアレキサンドリア）シェフにお寿司にあうおかず、家庭料理などを指導する。 \n2013年日本にて飾り巻き寿司の普及指導にあたる \n2014年～和食（おばんざい）家庭料理などエジプトで食の苦労をした体験から、海外でも美味しく  日本の家庭料理を作るための指導・研究をシンガポールで始める。 \n2017年～和食や日本の家庭料理が作れるメイドの育成（指導）に関わる。延べ1000人超のメイドに指導している。 \n2017年～シンガポール日本人会で、飾り巻き寿司と日本の家庭料理講座、四季のおばんざい講座、親子で飾り巻き寿司講座を担当し指導にあたる。 \n2018年～メイドの料理だけでなく、掃除や日々の作業についても総合的な個人指導を始める。 \n2019年～マレーシアでメイドレッスン、和食おばんざい料理教室を開催するSpoonfulの提携講師として、SHISEIDOはじめ各種大手企業のイベントでも活躍。
URL:https://spoonful.sg/ja/event/kyabetsu-okazu/
LOCATION:Online
CATEGORIES:Featured Spoonful Workshop Events,Spoonful Workshops
ATTACH;FMTTYPE=image/jpeg:https://spoonful.sg/wp-content/uploads/2020/07/キャベツの千切り.jpg
END:VEVENT
END:VCALENDAR