BEGIN:VCALENDAR
VERSION:2.0
PRODID:-//Spoonful - ECPv5.14.1//NONSGML v1.0//EN
CALSCALE:GREGORIAN
METHOD:PUBLISH
X-WR-CALNAME:Spoonful
X-ORIGINAL-URL:https://spoonful.sg/ja
X-WR-CALDESC:Spoonful のイベント
BEGIN:VTIMEZONE
TZID:Asia/Singapore
BEGIN:STANDARD
TZOFFSETFROM:+0800
TZOFFSETTO:+0800
TZNAME:+08
DTSTART:20180101T000000
END:STANDARD
END:VTIMEZONE
BEGIN:VEVENT
DTSTART;TZID=Asia/Singapore:20180221T140000
DTEND;TZID=Asia/Singapore:20180221T160000
DTSTAMP:20260416T163142
CREATED:20180202T050549Z
LAST-MODIFIED:20180209T035529Z
UID:4895-1519221600-1519228800@spoonful.sg
SUMMARY:Market Survey on Japanese Pork
DESCRIPTION:Spoonful is looking for 50-60 participants to join and provide feedback for a market survey session about Japanese pork. All you need to do is answer a simple questionnaire and sample some dishes of cooked Japanese pork (sampling portions). Each participant will receive S$20 as a token of appreciation. \nDate: 21st Feb 2018\, WednesdayTime: 2- 4 pmVenue: Ginza Lion 3 Temasek Boulevard\, #01-649/650\, Tower 4\, Suntec City Mall\, 038983Sampling dishes: 「豚肉素焼き」 (Pan fried pork seasoned with salt and pepper) \, 「とんかつ」(Tonkatsu Fried Pork Cutlet) \nRemarks: \n\nThis survey is open to Singaporeans only.\nWe welcome participants of all ages; excluding students \n\n** Images for reference only \nTERMS & CONDITIONS APPLY \nOrganiser:  FLP Yomiko \n 
URL:https://spoonful.sg/ja/event/market-survey-on-japanese-pork/
LOCATION:Ginza Lion\, 3 Temasek Boulevard\, #01-649/650\, Tower 4\, Suntec City Mall\,\, 038983\, Singapore
CATEGORIES:Featured Singapore Culinary Events,Singapore Culinary Events
ATTACH;FMTTYPE=image/jpeg:https://spoonful.sg/wp-content/uploads/2018/02/61032027_l.jpg
END:VEVENT
END:VCALENDAR