BEGIN:VCALENDAR
VERSION:2.0
PRODID:-//Spoonful - ECPv5.14.1//NONSGML v1.0//EN
CALSCALE:GREGORIAN
METHOD:PUBLISH
X-WR-CALNAME:Spoonful
X-ORIGINAL-URL:https://spoonful.sg/ja
X-WR-CALDESC:Spoonful のイベント
BEGIN:VTIMEZONE
TZID:Asia/Singapore
BEGIN:STANDARD
TZOFFSETFROM:+0800
TZOFFSETTO:+0800
TZNAME:+08
DTSTART:20170101T000000
END:STANDARD
END:VTIMEZONE
BEGIN:VEVENT
DTSTART;TZID=Asia/Singapore:20170227T110000
DTEND;TZID=Asia/Singapore:20170227T130000
DTSTAMP:20260417T202534
CREATED:20170126T084152Z
LAST-MODIFIED:20170203T035552Z
UID:1459-1488193200-1488200400@spoonful.sg
SUMMARY:(English) Origins of Food Cooking Classes - Beyond Thailand
DESCRIPTION:申し訳ありません、このコンテンツはただ今　アメリカ英語　のみです。
URL:https://spoonful.sg/ja/event/origins-of-food-cooking-classes-beyond-thailand-4/
LOCATION:Origins of Food\, One Farrer Hotel & Spa\, 1 FARRER PARK STATION ROAD SINGAPORE 217562 (FARRER PARK MRT EXIT C / NEXT TO TAXI STAND)\, Singapore\, 217562\, Singapore
CATEGORIES:Featured Singapore Culinary Events,Singapore Culinary Events
ATTACH;FMTTYPE=image/jpeg:https://spoonful.sg/wp-content/uploads/2016/12/a27f40688e2eba9344a66af0d3a13290_s.jpg
END:VEVENT
END:VCALENDAR