BEGIN:VCALENDAR
VERSION:2.0
PRODID:-//Spoonful - ECPv5.14.1//NONSGML v1.0//EN
CALSCALE:GREGORIAN
METHOD:PUBLISH
X-WR-CALNAME:Spoonful
X-ORIGINAL-URL:https://spoonful.sg/ja
X-WR-CALDESC:Spoonful のイベント
BEGIN:VTIMEZONE
TZID:Asia/Singapore
BEGIN:STANDARD
TZOFFSETFROM:+0800
TZOFFSETTO:+0800
TZNAME:+08
DTSTART:20180101T000000
END:STANDARD
END:VTIMEZONE
BEGIN:VEVENT
DTSTART;TZID=Asia/Singapore:20180620T140000
DTEND;TZID=Asia/Singapore:20180620T160000
DTSTAMP:20260416T093047
CREATED:20180606T031520Z
LAST-MODIFIED:20180618T101106Z
UID:5653-1529503200-1529510400@spoonful.sg
SUMMARY:(Sold Out)【1日限定】チャターボックスのシェフに習う！「チキンライス」クラス
DESCRIPTION:チャターボックスのシェフ “Liew Tian Heong”に習うチキンライスクラスが開催されます。 \nキャリア30年のシェフは伝説とも言えるマンダリンホテルの「チャターボックス」のチキンライスや、ロブスターラクサ、キングプラウン・ホッケン・ミーを有名にした影の立役者です。 \nシェフと一緒にチキンライスを作りましょう！ \nTERMS & CONDITIONS APPLY \nChicken Rice Master Class
URL:https://spoonful.sg/ja/event/oue-social-kitchen-chicken-rice-20-jun/
LOCATION:OUE Social Kitchen\, 6a Shenton Way #03-02/03\, 068809\, Singapore
CATEGORIES:Featured Singapore Culinary Events,Singapore Culinary Events
ATTACH;FMTTYPE=image/png:https://spoonful.sg/wp-content/uploads/2018/06/CHEFLIEW_20JUN-A4WEB-1.png
ORGANIZER;CN="OUE%20Social%20Kitchen":MAILTO:socialkitchen@oue.com.sg
END:VEVENT
END:VCALENDAR