BEGIN:VCALENDAR
VERSION:2.0
PRODID:-//Spoonful - ECPv5.14.1//NONSGML v1.0//EN
CALSCALE:GREGORIAN
METHOD:PUBLISH
X-WR-CALNAME:Spoonful
X-ORIGINAL-URL:https://spoonful.sg/ja
X-WR-CALDESC:Spoonful のイベント
BEGIN:VTIMEZONE
TZID:Asia/Singapore
BEGIN:STANDARD
TZOFFSETFROM:+0800
TZOFFSETTO:+0800
TZNAME:+08
DTSTART:20180101T000000
END:STANDARD
END:VTIMEZONE
BEGIN:VEVENT
DTSTART;TZID=Asia/Singapore:20181018T120000
DTEND;TZID=Asia/Singapore:20181018T130000
DTSTAMP:20260417T070015
CREATED:20180919T074238Z
LAST-MODIFIED:20180919T074238Z
UID:6693-1539864000-1539867600@spoonful.sg
SUMMARY:OUE Social Kitchen Lunch Party - Abacus Seeds (18 Oct)
DESCRIPTION:Enjoy A Truly Hakka Lunch Experience with us!  \n\n\nMaster the art of making YAM ABACUS SEEDS (芋头算盘子) from scratch and impress your family and future-in-laws. \nChallenge yourself and join us for this October’s lunch party\, with Chef’s guidance\, recipe and ingredients all provided for! \nTop up $3nett for a glass of Coke\, Sprite or Green Tea to reward your hard work! \nDon’t worry\, it’s our job to clean up after you. \n  \n\nVisit OUE Social Kitchen at Downtown Gallery or follow on Facebook to find out more! \n\n\nTERMS & CONDITIONS APPLY \n 
URL:https://spoonful.sg/ja/event/oue-social-kitchen-lunch-party-abacus-seeds-18-oct/
LOCATION:OUE Social Kitchen\, 6a Shenton Way #03-02/03\, 068809\, Singapore
CATEGORIES:Featured Singapore Culinary Events,Singapore Culinary Events
ATTACH;FMTTYPE=image/png:https://spoonful.sg/wp-content/uploads/2018/09/Lunch-Party-Abacus-Seeds2_hero.png
ORGANIZER;CN="OUE%20Social%20Kitchen":MAILTO:socialkitchen@oue.com.sg
END:VEVENT
END:VCALENDAR