BEGIN:VCALENDAR
VERSION:2.0
PRODID:-//Spoonful - ECPv5.14.1//NONSGML v1.0//EN
CALSCALE:GREGORIAN
METHOD:PUBLISH
X-WR-CALNAME:Spoonful
X-ORIGINAL-URL:https://spoonful.sg/ja
X-WR-CALDESC:Spoonful のイベント
BEGIN:VTIMEZONE
TZID:Asia/Singapore
BEGIN:STANDARD
TZOFFSETFROM:+0800
TZOFFSETTO:+0800
TZNAME:+08
DTSTART:20190101T000000
END:STANDARD
END:VTIMEZONE
BEGIN:VEVENT
DTSTART;TZID=Asia/Singapore:20191017T120000
DTEND;TZID=Asia/Singapore:20191017T130000
DTSTAMP:20260421T113740
CREATED:20190930T080012Z
LAST-MODIFIED:20190930T080012Z
UID:10139-1571313600-1571317200@spoonful.sg
SUMMARY:OUE Social Kitchen Lunch Party - Quiche Lorraine (17 Oct)
DESCRIPTION:BONJOUR! \nJoin us this October as we ‘fly’ to France to enjoy mouth-watering dishes cook by yourself. \nFrom 1 – 23OCT\, cook your own Quiche Lorraine with our resident chef’s guidance\, recipe\, and ingredients provided for! \nReward yourself by topping up another $3/- for a glass of Coke\, Sprite or Green Tea! \nPs: it’s our job to clean up after you! \n  \n\n  \nVisit OUE Social Kitchen at Downtown Gallery or follow on Facebook to find out more! \n\n\n\n\n\n\nPictures are for illustration purposes only\nStrictly no refunds\, exchange or cancellations allowed\nThe class will commence with a minimum of 5 pax \n  \n\n\nTERMS & CONDITIONS APPLY \n\n\n\n 
URL:https://spoonful.sg/ja/event/oue-social-kitchen-lunch-party-quiche-lorraine-17-oct/
LOCATION:OUE Social Kitchen\, 6a Shenton Way #03-02/03\, 068809\, Singapore
CATEGORIES:Featured Singapore Culinary Events,Singapore Culinary Events
ATTACH;FMTTYPE=image/png:https://spoonful.sg/wp-content/uploads/2019/09/Lunch-Party-Quiche-Lorriane2.png
ORGANIZER;CN="OUE%20Social%20Kitchen":MAILTO:socialkitchen@oue.com.sg
END:VEVENT
END:VCALENDAR