BEGIN:VCALENDAR
VERSION:2.0
PRODID:-//Spoonful - ECPv5.14.1//NONSGML v1.0//EN
CALSCALE:GREGORIAN
METHOD:PUBLISH
X-WR-CALNAME:Spoonful
X-ORIGINAL-URL:https://spoonful.sg/ja
X-WR-CALDESC:Spoonful のイベント
BEGIN:VTIMEZONE
TZID:Asia/Singapore
BEGIN:STANDARD
TZOFFSETFROM:+0800
TZOFFSETTO:+0800
TZNAME:+08
DTSTART:20180101T000000
END:STANDARD
END:VTIMEZONE
BEGIN:VEVENT
DTSTART;TZID=Asia/Singapore:20181103T110000
DTEND;TZID=Asia/Singapore:20181104T180000
DTSTAMP:20260416T094250
CREATED:20181026T025121Z
LAST-MODIFIED:20181026T025121Z
UID:7160-1541242800-1541354400@spoonful.sg
SUMMARY:The Fascinations of Niigata Japan
DESCRIPTION:FREE ENTRY! \nTsubame-sanjo is a famous industrial area in Niigata Prefecture of Japan. This area produces high-quality metal wares and exports them worldwide; to which they have been a hit with many\, including celebrities from all over the world!  We’re bringing this event to Singapore to share the excellent craftsmanship of Tsubame-Sanjo. \nCome and experience first-hand what Tsubame-Sanjo can offer! Be impressed by the manufacturing skills of legendary Takumi (Artisans) like Mr. Nobuo Oiwa as he makes his appearance in Singapore to bring you the charms of metal works direct from Tsubame-Sanjo! Delicate metal sculptures made by the artisans in Tsubame-Sanjo have won numerous contests and these artisans are so skilled they can produce original spoons from just a piece of metal! \nThis time\, try making your very own Leaf-shaped Chopstick Rest for FREE! \n \n  \n \n 
URL:https://spoonful.sg/ja/event/the-fascinations-of-niigata-japan/
LOCATION:Tomi Sushi Singapore ECHIGOTEI\, 35 Cuppage Road\, Cuppage Terrace\, 229459\, Singapore
CATEGORIES:Featured Singapore Culinary Events,Singapore Culinary Events
ATTACH;FMTTYPE=image/jpeg:https://spoonful.sg/wp-content/uploads/2018/10/Flyer-1.jpg
END:VEVENT
END:VCALENDAR