BEGIN:VCALENDAR
VERSION:2.0
PRODID:-//Spoonful - ECPv5.14.1//NONSGML v1.0//EN
CALSCALE:GREGORIAN
METHOD:PUBLISH
X-WR-CALNAME:Spoonful
X-ORIGINAL-URL:https://spoonful.sg/ja
X-WR-CALDESC:Spoonful のイベント
BEGIN:VTIMEZONE
TZID:Asia/Singapore
BEGIN:STANDARD
TZOFFSETFROM:+0800
TZOFFSETTO:+0800
TZNAME:+08
DTSTART:20190101T000000
END:STANDARD
END:VTIMEZONE
BEGIN:VEVENT
DTSTART;TZID=Asia/Singapore:20190126T090000
DTEND;TZID=Asia/Singapore:20190126T180000
DTSTAMP:20260424T193939
CREATED:20180815T044328Z
LAST-MODIFIED:20180815T044328Z
UID:6277-1548493200-1548525600@spoonful.sg
SUMMARY:(English) WSQ Demonstrate Basic Moist Heat Cooking Methods Course by Shatec
DESCRIPTION:申し訳ありません、このコンテンツはただ今　アメリカ英語　のみです。
URL:https://spoonful.sg/ja/event/wsq-demonstrate-basic-moist-heat-cooking-methods-course-by-shatec-8/
LOCATION:Shatec\, SHATEC Campus 21 Bukit Batok Street 22\,\, 659589\, Singapore
CATEGORIES:Featured Singapore Culinary Events,Singapore Culinary Events
ATTACH;FMTTYPE=image/jpeg:https://spoonful.sg/wp-content/uploads/2018/08/boiling-stock.jpg
ORGANIZER;CN="shatec":MAILTO:cet@shatec.sg
END:VEVENT
END:VCALENDAR